Package: DaMiRseq Version: 2.23.0 Command: /home/biocbuild/bbs-3.23-bioc/R/bin/R CMD check --install=check:DaMiRseq.install-out.txt --library=/home/biocbuild/bbs-3.23-bioc/R/site-library --timings DaMiRseq_2.23.0.tar.gz StartedAt: 2025-11-23 22:38:34 -0500 (Sun, 23 Nov 2025) EndedAt: 2025-11-23 22:52:54 -0500 (Sun, 23 Nov 2025) EllapsedTime: 860.1 seconds RetCode: 0 Status: OK CheckDir: DaMiRseq.Rcheck Warnings: 0