Package: DaMiRseq Version: 2.23.0 Command: /home/biocbuild/bbs-3.23-bioc/R/bin/R CMD build --keep-empty-dirs --no-resave-data DaMiRseq StartedAt: 2025-11-03 17:04:07 -0500 (Mon, 03 Nov 2025) EndedAt: 2025-11-03 17:11:49 -0500 (Mon, 03 Nov 2025) EllapsedTime: 462.5 seconds RetCode: 0 Status: OK PackageFile: DaMiRseq_2.23.0.tar.gz PackageFileSize: 4.218 MiB