Package: DTA Version: 2.57.0 Command: /home/biocbuild/bbs-3.23-bioc/R/bin/R CMD INSTALL DTA StartedAt: 2025-11-20 15:02:54 -0500 (Thu, 20 Nov 2025) EndedAt: 2025-11-20 15:03:15 -0500 (Thu, 20 Nov 2025) EllapsedTime: 21.5 seconds RetCode: 0 Status: OK