Package: DTA Version: 2.57.0 Command: /home/biocbuild/bbs-3.23-bioc/R/bin/R CMD build --keep-empty-dirs --no-resave-data DTA StartedAt: 2025-11-20 17:25:16 -0500 (Thu, 20 Nov 2025) EndedAt: 2025-11-20 17:30:05 -0500 (Thu, 20 Nov 2025) EllapsedTime: 289.4 seconds RetCode: 0 Status: OK PackageFile: DTA_2.57.0.tar.gz PackageFileSize: 11.19 MiB