Package: DTA Version: 2.55.0 Command: /Library/Frameworks/R.framework/Resources/bin/R CMD INSTALL DTA StartedAt: 2025-10-24 15:13:31 -0400 (Fri, 24 Oct 2025) EndedAt: 2025-10-24 15:14:06 -0400 (Fri, 24 Oct 2025) EllapsedTime: 34.7 seconds RetCode: 0 Status: OK