Package: DTA Version: 2.55.0 Command: /Library/Frameworks/R.framework/Resources/bin/R CMD build --keep-empty-dirs --no-resave-data DTA StartedAt: 2025-10-03 16:16:01 -0400 (Fri, 03 Oct 2025) EndedAt: 2025-10-03 16:17:47 -0400 (Fri, 03 Oct 2025) EllapsedTime: 106.2 seconds RetCode: 0 Status: OK PackageFile: DTA_2.55.0.tar.gz PackageFileSize: 9.065 MiB