Package: DSS Version: 2.57.0 Command: /Library/Frameworks/R.framework/Resources/bin/R CMD INSTALL DSS StartedAt: 2025-10-07 15:32:12 -0400 (Tue, 07 Oct 2025) EndedAt: 2025-10-07 15:33:07 -0400 (Tue, 07 Oct 2025) EllapsedTime: 55.0 seconds RetCode: 0 Status: OK