Package: DSS Version: 2.57.0 Command: /Library/Frameworks/R.framework/Resources/bin/R CMD build --keep-empty-dirs --no-resave-data DSS StartedAt: 2025-10-07 16:54:09 -0400 (Tue, 07 Oct 2025) EndedAt: 2025-10-07 16:55:30 -0400 (Tue, 07 Oct 2025) EllapsedTime: 81.2 seconds RetCode: 0 Status: OK PackageFile: DSS_2.57.0.tar.gz PackageFileSize: 2.029 MiB