Package: DSS Version: 2.57.0 Command: rm -rf DSS.buildbin-libdir && mkdir DSS.buildbin-libdir && /Users/biocbuild/BBS/utils/build-universal.sh DSS_2.57.0.tar.gz /Library/Frameworks/R.framework/Resources/bin/R DSS.buildbin-libdir StartedAt: 2025-10-08 02:15:42 -0400 (Wed, 08 Oct 2025) EndedAt: 2025-10-08 02:16:44 -0400 (Wed, 08 Oct 2025) EllapsedTime: 62.3 seconds RetCode: 0 Status: OK PackageFile: DSS_2.57.0.tgz PackageFileSize: 1.6 MiB