Package: DRIMSeq Version: 1.39.0 Command: /home/biocbuild/bbs-3.23-bioc/R/bin/R CMD build --keep-empty-dirs --no-resave-data DRIMSeq StartedAt: 2025-11-03 17:19:14 -0500 (Mon, 03 Nov 2025) EndedAt: 2025-11-03 17:21:34 -0500 (Mon, 03 Nov 2025) EllapsedTime: 140.1 seconds RetCode: 0 Status: OK PackageFile: DRIMSeq_1.39.0.tar.gz PackageFileSize: 481.7 KiB