Package: DRIMSeq Version: 1.37.0 Command: /Library/Frameworks/R.framework/Resources/bin/R CMD check --install=check:DRIMSeq.install-out.txt --library=/Library/Frameworks/R.framework/Resources/library --no-vignettes --timings DRIMSeq_1.37.0.tar.gz StartedAt: 2025-10-22 20:47:21 -0400 (Wed, 22 Oct 2025) EndedAt: 2025-10-22 20:51:17 -0400 (Wed, 22 Oct 2025) EllapsedTime: 236.6 seconds RetCode: 0 Status: WARNINGS CheckDir: DRIMSeq.Rcheck Warnings: 1