Package: DRIMSeq Version: 1.37.0 Command: /Library/Frameworks/R.framework/Resources/bin/R CMD check --install=check:DRIMSeq.install-out.txt --library=/Library/Frameworks/R.framework/Resources/library --no-vignettes --timings DRIMSeq_1.37.0.tar.gz StartedAt: 2025-10-05 19:20:55 -0400 (Sun, 05 Oct 2025) EndedAt: 2025-10-05 19:22:16 -0400 (Sun, 05 Oct 2025) EllapsedTime: 80.9 seconds RetCode: 0 Status: WARNINGS CheckDir: DRIMSeq.Rcheck Warnings: 1