Package: DOtools Version: 0.99.11 Command: /home/biocbuild/R/R/bin/R CMD INSTALL DOtools StartedAt: 2025-10-23 21:21:21 -0000 (Thu, 23 Oct 2025) EndedAt: 2025-10-23 21:22:25 -0000 (Thu, 23 Oct 2025) EllapsedTime: 63.6 seconds RetCode: 0 Status: OK