Package: DOtools Version: 0.99.11 Command: /home/biocbuild/R/R/bin/R CMD build --keep-empty-dirs --no-resave-data DOtools StartedAt: 2025-10-20 23:28:59 -0000 (Mon, 20 Oct 2025) EndedAt: 2025-10-20 23:34:56 -0000 (Mon, 20 Oct 2025) EllapsedTime: 357.1 seconds RetCode: 0 Status: OK PackageFile: DOtools_0.99.11.tar.gz PackageFileSize: 3.72 MiB