Package: DOtools Version: 1.1.0 Command: /home/biocbuild/bbs-3.23-bioc/R/bin/R CMD build --keep-empty-dirs --no-resave-data DOtools StartedAt: 2025-11-20 17:24:18 -0500 (Thu, 20 Nov 2025) EndedAt: 2025-11-20 17:28:17 -0500 (Thu, 20 Nov 2025) EllapsedTime: 239.2 seconds RetCode: 0 Status: OK PackageFile: DOtools_1.1.0.tar.gz PackageFileSize: 4.762 MiB