Package: DOtools Version: 0.99.11 Command: /Library/Frameworks/R.framework/Resources/bin/R CMD INSTALL DOtools StartedAt: 2025-10-24 15:54:57 -0400 (Fri, 24 Oct 2025) EndedAt: 2025-10-24 15:56:05 -0400 (Fri, 24 Oct 2025) EllapsedTime: 67.5 seconds RetCode: 0 Status: OK