Package: DOtools Version: 0.99.11 Command: /Library/Frameworks/R.framework/Resources/bin/R CMD INSTALL DOtools StartedAt: 2025-10-24 15:33:10 -0400 (Fri, 24 Oct 2025) EndedAt: 2025-10-24 15:33:29 -0400 (Fri, 24 Oct 2025) EllapsedTime: 19.7 seconds RetCode: 0 Status: OK