Package: DOtools Version: 0.99.11 Command: /Library/Frameworks/R.framework/Resources/bin/R CMD build --keep-empty-dirs --no-resave-data DOtools StartedAt: 2025-10-24 16:18:20 -0400 (Fri, 24 Oct 2025) EndedAt: 2025-10-24 16:20:08 -0400 (Fri, 24 Oct 2025) EllapsedTime: 108.1 seconds RetCode: 1 Status: ERROR PackageFile: None PackageFileSize: NA