Package: DOSE Version: 4.5.0 Command: /home/biocbuild/bbs-3.23-bioc/R/bin/R CMD INSTALL DOSE StartedAt: 2025-11-06 15:43:20 -0500 (Thu, 06 Nov 2025) EndedAt: 2025-11-06 15:43:46 -0500 (Thu, 06 Nov 2025) EllapsedTime: 25.7 seconds RetCode: 0 Status: OK