Package: DOSE Version: 4.3.0 Command: /Library/Frameworks/R.framework/Resources/bin/R CMD INSTALL DOSE StartedAt: 2025-10-06 15:22:53 -0400 (Mon, 06 Oct 2025) EndedAt: 2025-10-06 15:23:03 -0400 (Mon, 06 Oct 2025) EllapsedTime: 10.5 seconds RetCode: 0 Status: OK