Package: DOSE Version: 4.3.0 Command: /Library/Frameworks/R.framework/Resources/bin/R CMD build --keep-empty-dirs --no-resave-data DOSE StartedAt: 2025-10-07 16:15:14 -0400 (Tue, 07 Oct 2025) EndedAt: 2025-10-07 16:15:30 -0400 (Tue, 07 Oct 2025) EllapsedTime: 15.2 seconds RetCode: 0 Status: OK PackageFile: DOSE_4.3.0.tar.gz PackageFileSize: 5.479 MiB