Back to Build/check report for BioC 3.23:   simplified   long
ABC[D]EFGHIJKLMNOPQRSTUVWXYZ

This page was generated on 2025-11-05 11:32 -0500 (Wed, 05 Nov 2025).

HostnameOSArch (*)R versionInstalled pkgs
nebbiolo1Linux (Ubuntu 24.04.3 LTS)x86_64R Under development (unstable) (2025-10-20 r88955) -- "Unsuffered Consequences" 4818
Click on any hostname to see more info about the system (e.g. compilers)      (*) as reported by 'uname -p', except on Windows and Mac OS X

All results for package DOSE


To the developers/maintainers of the DOSE package:
- Allow up to 24 hours (and sometimes 48 hours) for your latest push to git@git.bioconductor.org:packages/DOSE.git to reflect on this report. See Troubleshooting Build Report for more information.
- Use the following Renviron settings to reproduce errors and warnings.
- If 'R CMD check' started to fail recently on the Linux builder(s) over a missing dependency, add the missing dependency to 'Suggests:' in your DESCRIPTION file. See Renviron.bioc for more information.

raw results

Package 611/2323HostnameOS / ArchINSTALLBUILDCHECKBUILD BIN
DOSE 4.5.0  (landing page)
Guangchuang Yu
Snapshot Date: 2025-11-04 13:40 -0500 (Tue, 04 Nov 2025)
git_url: https://git.bioconductor.org/packages/DOSE
git_branch: devel
git_last_commit: 47174f9
git_last_commit_date: 2025-10-29 10:07:51 -0500 (Wed, 29 Oct 2025)
nebbiolo1Linux (Ubuntu 24.04.3 LTS) / x86_64  OK    OK    OK  UNNEEDED, same version is already published



Results for Bioconductor software packages that depend directly on package DOSE

QUICK STATSOS / ArchINSTALLBUILDCHECKBUILD BIN
nebbiolo1Linux (Ubuntu 24.04.3 LTS) / x86_64
0118
0118
01116
Package 1/19HostnameOS / ArchINSTALLBUILDCHECKBUILD BIN
bioCancer 1.39.0  (landing page)
Karim Mezhoud
git_last_commit: 45dcc83
git_last_commit_date: 2025-10-29 10:32:26 -0500
nebbiolo1Linux (Ubuntu 24.04.3 LTS) / x86_64  ERROR    ERROR  skipped
Package 2/19HostnameOS / ArchINSTALLBUILDCHECKBUILD BIN
clusterProfiler 4.19.1  (landing page)
Guangchuang Yu
git_last_commit: c6e07d0
git_last_commit_date: 2025-11-01 10:45:20 -0500
nebbiolo1Linux (Ubuntu 24.04.3 LTS) / x86_64  OK    OK    OK  UNNEEDED, same version is already published
Package 3/19HostnameOS / ArchINSTALLBUILDCHECKBUILD BIN
debrowser 1.39.0  (landing page)
Alper Kucukural
git_last_commit: 17795bc
git_last_commit_date: 2025-10-29 10:30:54 -0500
nebbiolo1Linux (Ubuntu 24.04.3 LTS) / x86_64  OK    OK    OK  YES
Package 4/19HostnameOS / ArchINSTALLBUILDCHECKBUILD BIN
enrichplot 1.31.0  (landing page)
Guangchuang Yu
git_last_commit: 682bc26
git_last_commit_date: 2025-10-29 10:43:16 -0500
nebbiolo1Linux (Ubuntu 24.04.3 LTS) / x86_64  OK    OK    OK  UNNEEDED, same version is already published
Package 5/19HostnameOS / ArchINSTALLBUILDCHECKBUILD BIN
enrichViewNet 1.9.0  (landing page)
Astrid DeschĂȘnes
git_last_commit: a935360
git_last_commit_date: 2025-10-29 11:26:13 -0500
nebbiolo1Linux (Ubuntu 24.04.3 LTS) / x86_64  OK    OK    OK  UNNEEDED, same version is already published
Package 6/19HostnameOS / ArchINSTALLBUILDCHECKBUILD BIN
GDCRNATools 1.31.0  (landing page)
Ruidong Li
git_last_commit: 0524945
git_last_commit_date: 2025-10-29 10:42:54 -0500
nebbiolo1Linux (Ubuntu 24.04.3 LTS) / x86_64  OK    OK    OK  NO, package depends on 'GenomicDataCommons' which is not available
Package 7/19HostnameOS / ArchINSTALLBUILDCHECKBUILD BIN
meshes 1.37.0  (landing page)
Guangchuang Yu
git_last_commit: b03ea7f
git_last_commit_date: 2025-10-29 10:35:16 -0500
nebbiolo1Linux (Ubuntu 24.04.3 LTS) / x86_64  OK    OK    OK  UNNEEDED, same version is already published
Package 8/19HostnameOS / ArchINSTALLBUILDCHECKBUILD BIN
miRSM 2.7.0  (landing page)
Junpeng Zhang
git_last_commit: 64db36b
git_last_commit_date: 2025-10-29 10:47:11 -0500
nebbiolo1Linux (Ubuntu 24.04.3 LTS) / x86_64  OK    OK    OK  UNNEEDED, same version is already published
Package 9/19HostnameOS / ArchINSTALLBUILDCHECKBUILD BIN
miRspongeR 2.15.0  (landing page)
Junpeng Zhang
git_last_commit: abb7e44
git_last_commit_date: 2025-10-29 10:40:11 -0500
nebbiolo1Linux (Ubuntu 24.04.3 LTS) / x86_64  OK    OK    OK  UNNEEDED, same version is already published
Package 10/19HostnameOS / ArchINSTALLBUILDCHECKBUILD BIN
Moonlight2R 1.9.0  (landing page)
Matteo Tiberti
git_last_commit: b5e3244
git_last_commit_date: 2025-10-29 11:25:19 -0500
nebbiolo1Linux (Ubuntu 24.04.3 LTS) / x86_64  OK    OK    OK  YES
Package 11/19HostnameOS / ArchINSTALLBUILDCHECKBUILD BIN
MoonlightR 1.37.0  (landing page)
Matteo Tiberti
git_last_commit: 9303ed6
git_last_commit_date: 2025-10-29 10:35:02 -0500
nebbiolo1Linux (Ubuntu 24.04.3 LTS) / x86_64  OK    OK    OK  UNNEEDED, same version is already published
Package 12/19HostnameOS / ArchINSTALLBUILDCHECKBUILD BIN
Pigengene 1.37.0  (landing page)
Habil Zare
git_last_commit: b4e2edc
git_last_commit_date: 2025-10-29 10:32:29 -0500
nebbiolo1Linux (Ubuntu 24.04.3 LTS) / x86_64  OK    OK    ERROR  
Package 13/19HostnameOS / ArchINSTALLBUILDCHECKBUILD BIN
ReactomePA 1.55.0  (landing page)
Guangchuang Yu
git_last_commit: 37ccc0d
git_last_commit_date: 2025-10-29 10:10:37 -0500
nebbiolo1Linux (Ubuntu 24.04.3 LTS) / x86_64  OK    OK    OK  UNNEEDED, same version is already published
Package 14/19HostnameOS / ArchINSTALLBUILDCHECKBUILD BIN
RegEnrich 1.21.0  (landing page)
Weiyang Tao
git_last_commit: 73e2009
git_last_commit_date: 2025-10-29 11:00:04 -0500
nebbiolo1Linux (Ubuntu 24.04.3 LTS) / x86_64  OK    OK    OK  UNNEEDED, same version is already published
Package 15/19HostnameOS / ArchINSTALLBUILDCHECKBUILD BIN
scTensor 2.21.0  (landing page)
Koki Tsuyuzaki
git_last_commit: 63a2564
git_last_commit_date: 2025-10-29 10:49:00 -0500
nebbiolo1Linux (Ubuntu 24.04.3 LTS) / x86_64  OK    OK    WARNINGS  UNNEEDED, same version is already published
Package 16/19HostnameOS / ArchINSTALLBUILDCHECKBUILD BIN
signatureSearch 1.25.0  (landing page)
Brendan Gongol
git_last_commit: 342f9a7
git_last_commit_date: 2025-10-29 10:55:44 -0500
nebbiolo1Linux (Ubuntu 24.04.3 LTS) / x86_64  OK    OK    OK  UNNEEDED, same version is already published
Package 17/19HostnameOS / ArchINSTALLBUILDCHECKBUILD BIN
SVMDO 1.11.0  (landing page)
Mustafa Erhan Ozer
git_last_commit: 2bc7e27
git_last_commit_date: 2025-10-29 11:23:08 -0500
nebbiolo1Linux (Ubuntu 24.04.3 LTS) / x86_64  OK    OK    OK  UNNEEDED, same version is already published
Package 18/19HostnameOS / ArchINSTALLBUILDCHECKBUILD BIN
TDbasedUFEadv 1.11.0  (landing page)
Y-h. Taguchi
git_last_commit: 63e0976
git_last_commit_date: 2025-10-29 11:22:02 -0500
nebbiolo1Linux (Ubuntu 24.04.3 LTS) / x86_64  OK    OK    OK  UNNEEDED, same version is already published
Package 19/19HostnameOS / ArchINSTALLBUILDCHECKBUILD BIN
vsclust 1.13.0  (landing page)
Veit Schwammle
git_last_commit: 72e8c77
git_last_commit_date: 2025-10-29 11:19:19 -0500
nebbiolo1Linux (Ubuntu 24.04.3 LTS) / x86_64  OK    OK    OK  UNNEEDED, same version is already published