Package: DNEA Version: 1.1.0 Command: /home/biocbuild/bbs-3.23-bioc/R/bin/R CMD INSTALL DNEA StartedAt: 2025-11-05 15:45:02 -0500 (Wed, 05 Nov 2025) EndedAt: 2025-11-05 15:45:34 -0500 (Wed, 05 Nov 2025) EllapsedTime: 32.8 seconds RetCode: 0 Status: OK