Package: DNEA Version: 1.1.0 Command: /home/biocbuild/bbs-3.23-bioc/R/bin/R CMD build --keep-empty-dirs --no-resave-data DNEA StartedAt: 2025-11-06 17:18:09 -0500 (Thu, 06 Nov 2025) EndedAt: 2025-11-06 17:19:39 -0500 (Thu, 06 Nov 2025) EllapsedTime: 90.1 seconds RetCode: 0 Status: OK PackageFile: DNEA_1.1.0.tar.gz PackageFileSize: 4.305 MiB