Package: DNEA Version: 0.99.14 Command: /Library/Frameworks/R.framework/Resources/bin/R CMD INSTALL DNEA StartedAt: 2025-10-28 15:35:10 -0400 (Tue, 28 Oct 2025) EndedAt: 2025-10-28 15:35:54 -0400 (Tue, 28 Oct 2025) EllapsedTime: 44.0 seconds RetCode: 0 Status: OK