Package: DNEA Version: 0.99.14 Command: rm -rf DNEA.buildbin-libdir && mkdir DNEA.buildbin-libdir && /Users/biocbuild/BBS/utils/build-universal.sh DNEA_0.99.14.tar.gz /Library/Frameworks/R.framework/Resources/bin/R DNEA.buildbin-libdir StartedAt: 2025-10-29 01:32:43 -0400 (Wed, 29 Oct 2025) EndedAt: 2025-10-29 01:33:32 -0400 (Wed, 29 Oct 2025) EllapsedTime: 49.3 seconds RetCode: 0 Status: OK PackageFile: DNEA_0.99.14.tgz PackageFileSize: 3.52 MiB