Package: DNEA Version: 0.99.14 Command: /Library/Frameworks/R.framework/Resources/bin/R CMD INSTALL DNEA StartedAt: 2025-10-16 15:27:16 -0400 (Thu, 16 Oct 2025) EndedAt: 2025-10-16 15:27:29 -0400 (Thu, 16 Oct 2025) EllapsedTime: 13.0 seconds RetCode: 0 Status: OK