Package: DNEA Version: 0.99.14 Command: /Library/Frameworks/R.framework/Resources/bin/R CMD build --keep-empty-dirs --no-resave-data DNEA StartedAt: 2025-10-16 16:26:48 -0400 (Thu, 16 Oct 2025) EndedAt: 2025-10-16 16:27:25 -0400 (Thu, 16 Oct 2025) EllapsedTime: 36.4 seconds RetCode: 0 Status: OK PackageFile: DNEA_0.99.14.tar.gz PackageFileSize: 4.409 MiB