Package: DNEA Version: 0.99.14 Command: rm -rf DNEA.buildbin-libdir && mkdir DNEA.buildbin-libdir && /Users/biocbuild/BBS/utils/build-universal.sh DNEA_0.99.14.tar.gz /Library/Frameworks/R.framework/Resources/bin/R DNEA.buildbin-libdir StartedAt: 2025-10-16 22:59:37 -0400 (Thu, 16 Oct 2025) EndedAt: 2025-10-16 22:59:51 -0400 (Thu, 16 Oct 2025) EllapsedTime: 14.3 seconds RetCode: 0 Status: OK PackageFile: DNEA_0.99.14.tgz PackageFileSize: 3.553 MiB