Package: DNAshapeR Version: 1.37.0 Command: /home/biocbuild/R/R/bin/R CMD INSTALL DNAshapeR StartedAt: 2025-10-13 20:51:01 -0000 (Mon, 13 Oct 2025) EndedAt: 2025-10-13 20:51:54 -0000 (Mon, 13 Oct 2025) EllapsedTime: 52.8 seconds RetCode: 0 Status: OK