Package: DNAshapeR Version: 1.37.0 Command: /home/biocbuild/bbs-3.22-bioc/R/bin/R CMD check --install=check:DNAshapeR.install-out.txt --library=/home/biocbuild/bbs-3.22-bioc/R/site-library --timings DNAshapeR_1.37.0.tar.gz StartedAt: 2025-10-10 23:36:51 -0400 (Fri, 10 Oct 2025) EndedAt: 2025-10-10 23:39:19 -0400 (Fri, 10 Oct 2025) EllapsedTime: 148.1 seconds RetCode: 0 Status: OK CheckDir: DNAshapeR.Rcheck Warnings: 0