Package: DNAshapeR Version: 1.39.0 Command: /home/biocbuild/bbs-3.23-bioc/R/bin/R CMD check --install=check:DNAshapeR.install-out.txt --library=/home/biocbuild/bbs-3.23-bioc/R/site-library --timings DNAshapeR_1.39.0.tar.gz StartedAt: 2025-11-17 23:11:35 -0500 (Mon, 17 Nov 2025) EndedAt: 2025-11-17 23:14:01 -0500 (Mon, 17 Nov 2025) EllapsedTime: 146.2 seconds RetCode: 0 Status: OK CheckDir: DNAshapeR.Rcheck Warnings: 0