Package: DNAshapeR Version: 1.37.0 Maintainer: Tsu-Pei Chiu MaintainerEmail: tsupeich at usc.edu git_url: https://git.bioconductor.org/packages/DNAshapeR git_branch: devel git_last_commit: 8791adc git_last_commit_date: 2025-04-15 10:59:41 -0400 (Tue, 15 Apr 2025)