Package: DNAfusion Version: 1.11.0 Command: /home/biocbuild/R/R/bin/R CMD INSTALL DNAfusion StartedAt: 2025-10-09 21:51:37 -0000 (Thu, 09 Oct 2025) EndedAt: 2025-10-09 21:52:17 -0000 (Thu, 09 Oct 2025) EllapsedTime: 39.9 seconds RetCode: 0 Status: OK