Package: DNAfusion Version: 1.11.0 Command: /home/biocbuild/R/R/bin/R CMD build --keep-empty-dirs --no-resave-data DNAfusion StartedAt: 2025-10-10 00:14:53 -0000 (Fri, 10 Oct 2025) EndedAt: 2025-10-10 00:17:56 -0000 (Fri, 10 Oct 2025) EllapsedTime: 183.1 seconds RetCode: 0 Status: OK PackageFile: DNAfusion_1.11.0.tar.gz PackageFileSize: 6.325 MiB