Package: DNAfusion Version: 1.11.0 Command: chmod a+r DNAfusion -R && F:\biocbuild\bbs-3.22-bioc\R\bin\R.exe CMD build --keep-empty-dirs --no-resave-data DNAfusion StartedAt: 2025-08-14 19:48:08 -0400 (Thu, 14 Aug 2025) EndedAt: 2025-08-14 19:51:37 -0400 (Thu, 14 Aug 2025) EllapsedTime: 209.1 seconds RetCode: 0 Status: OK PackageFile: DNAfusion_1.11.0.tar.gz PackageFileSize: 6.298 MiB