Package: DNAfusion Version: 1.11.0 Command: rm -rf DNAfusion.buildbin-libdir && mkdir DNAfusion.buildbin-libdir && F:\biocbuild\bbs-3.22-bioc\R\bin\R.exe CMD INSTALL --build --library=DNAfusion.buildbin-libdir DNAfusion_1.11.0.tar.gz StartedAt: 2025-08-15 10:10:51 -0400 (Fri, 15 Aug 2025) EndedAt: 2025-08-15 10:11:31 -0400 (Fri, 15 Aug 2025) EllapsedTime: 40.5 seconds RetCode: 0 Status: OK PackageFile: DNAfusion_1.11.0.zip PackageFileSize: 6.317 MiB