Package: DNAfusion Version: 1.13.0 Command: /home/biocbuild/bbs-3.23-bioc/R/bin/R CMD INSTALL DNAfusion StartedAt: 2025-11-04 15:42:54 -0500 (Tue, 04 Nov 2025) EndedAt: 2025-11-04 15:43:27 -0500 (Tue, 04 Nov 2025) EllapsedTime: 33.2 seconds RetCode: 0 Status: OK