Package: DNAfusion Version: 1.13.0 Command: /home/biocbuild/bbs-3.23-bioc/R/bin/R CMD check --install=check:DNAfusion.install-out.txt --library=/home/biocbuild/bbs-3.23-bioc/R/site-library --timings DNAfusion_1.13.0.tar.gz StartedAt: 2025-11-06 22:53:02 -0500 (Thu, 06 Nov 2025) EndedAt: 2025-11-06 23:02:31 -0500 (Thu, 06 Nov 2025) EllapsedTime: 568.7 seconds RetCode: 0 Status: OK CheckDir: DNAfusion.Rcheck Warnings: 0