Package: DNAcycP2 Version: 1.3.0 Command: /home/biocbuild/bbs-3.23-bioc/R/bin/R CMD INSTALL DNAcycP2 StartedAt: 2025-11-02 15:17:42 -0500 (Sun, 02 Nov 2025) EndedAt: 2025-11-02 15:17:49 -0500 (Sun, 02 Nov 2025) EllapsedTime: 7.3 seconds RetCode: 0 Status: OK