Package: DNAcycP2 Version: 1.3.0 Command: /home/biocbuild/bbs-3.23-bioc/R/bin/R CMD build --keep-empty-dirs --no-resave-data DNAcycP2 StartedAt: 2025-10-31 17:32:56 -0400 (Fri, 31 Oct 2025) EndedAt: 2025-10-31 17:34:21 -0400 (Fri, 31 Oct 2025) EllapsedTime: 84.1 seconds RetCode: 0 Status: OK PackageFile: DNAcycP2_1.3.0.tar.gz PackageFileSize: 2.316 MiB