Package: DNAcycP2 Version: 1.1.0 Command: /Library/Frameworks/R.framework/Resources/bin/R CMD INSTALL DNAcycP2 StartedAt: 2025-10-12 15:14:38 -0400 (Sun, 12 Oct 2025) EndedAt: 2025-10-12 15:14:49 -0400 (Sun, 12 Oct 2025) EllapsedTime: 10.8 seconds RetCode: 0 Status: OK