Package: DNAcycP2 Version: 1.1.0 Command: /Library/Frameworks/R.framework/Resources/bin/R CMD build --keep-empty-dirs --no-resave-data DNAcycP2 StartedAt: 2025-10-12 16:55:35 -0400 (Sun, 12 Oct 2025) EndedAt: 2025-10-12 16:58:18 -0400 (Sun, 12 Oct 2025) EllapsedTime: 162.7 seconds RetCode: 0 Status: OK PackageFile: DNAcycP2_1.1.0.tar.gz PackageFileSize: 2.317 MiB