Package: DNAcycP2 Version: 1.1.0 Command: rm -rf DNAcycP2.buildbin-libdir && mkdir DNAcycP2.buildbin-libdir && /Users/biocbuild/BBS/utils/build-universal.sh DNAcycP2_1.1.0.tar.gz /Library/Frameworks/R.framework/Resources/bin/R DNAcycP2.buildbin-libdir StartedAt: 2025-10-14 02:41:43 -0400 (Tue, 14 Oct 2025) EndedAt: 2025-10-14 02:41:59 -0400 (Tue, 14 Oct 2025) EllapsedTime: 16.2 seconds RetCode: 0 Status: OK PackageFile: DNAcycP2_1.1.0.tgz PackageFileSize: 1.602 MiB