Package: DNAcycP2 Version: 1.1.0 Command: /Library/Frameworks/R.framework/Resources/bin/R CMD INSTALL DNAcycP2 StartedAt: 2025-09-30 15:06:51 -0400 (Tue, 30 Sep 2025) EndedAt: 2025-09-30 15:06:55 -0400 (Tue, 30 Sep 2025) EllapsedTime: 4.1 seconds RetCode: 0 Status: OK