Package: DNAcycP2 Version: 1.1.0 Command: /Library/Frameworks/R.framework/Resources/bin/R CMD build --keep-empty-dirs --no-resave-data DNAcycP2 StartedAt: 2025-10-01 16:15:10 -0400 (Wed, 01 Oct 2025) EndedAt: 2025-10-01 16:15:50 -0400 (Wed, 01 Oct 2025) EllapsedTime: 40.4 seconds RetCode: 0 Status: OK PackageFile: DNAcycP2_1.1.0.tar.gz PackageFileSize: 2.315 MiB