Package: DNAcopy Version: 1.85.0 Command: /home/biocbuild/bbs-3.23-bioc/R/bin/R CMD INSTALL DNAcopy StartedAt: 2025-11-20 15:01:33 -0500 (Thu, 20 Nov 2025) EndedAt: 2025-11-20 15:01:43 -0500 (Thu, 20 Nov 2025) EllapsedTime: 9.8 seconds RetCode: 0 Status: OK