Package: DNAcopy Version: 1.85.0 Command: /home/biocbuild/bbs-3.23-bioc/R/bin/R CMD build --keep-empty-dirs --no-resave-data DNAcopy StartedAt: 2025-11-20 17:22:02 -0500 (Thu, 20 Nov 2025) EndedAt: 2025-11-20 17:22:12 -0500 (Thu, 20 Nov 2025) EllapsedTime: 10.0 seconds RetCode: 0 Status: OK PackageFile: DNAcopy_1.85.0.tar.gz PackageFileSize: 404.7 KiB