Package: DNAcopy Version: 1.83.0 Command: /Library/Frameworks/R.framework/Resources/bin/R CMD INSTALL DNAcopy StartedAt: 2025-10-28 15:06:27 -0400 (Tue, 28 Oct 2025) EndedAt: 2025-10-28 15:06:46 -0400 (Tue, 28 Oct 2025) EllapsedTime: 19.0 seconds RetCode: 0 Status: OK