Package: DNAcopy Version: 1.83.0 Command: /Library/Frameworks/R.framework/Resources/bin/R CMD build --keep-empty-dirs --no-resave-data DNAcopy StartedAt: 2025-10-28 16:49:51 -0400 (Tue, 28 Oct 2025) EndedAt: 2025-10-28 16:50:11 -0400 (Tue, 28 Oct 2025) EllapsedTime: 20.5 seconds RetCode: 0 Status: OK PackageFile: DNAcopy_1.83.0.tar.gz PackageFileSize: 404.4 KiB